BEGIN:VCALENDAR
VERSION:2.0
PRODID:-//Foothills Public Shooting Complex - ECPv6.15.20//NONSGML v1.0//EN
CALSCALE:GREGORIAN
METHOD:PUBLISH
X-WR-CALNAME:Foothills Public Shooting Complex
X-ORIGINAL-URL:https://foothillspublicshooting.cc
X-WR-CALDESC:Events for Foothills Public Shooting Complex
REFRESH-INTERVAL;VALUE=DURATION:PT1H
X-Robots-Tag:noindex
X-PUBLISHED-TTL:PT1H
BEGIN:VTIMEZONE
TZID:America/New_York
BEGIN:DAYLIGHT
TZOFFSETFROM:-0500
TZOFFSETTO:-0400
TZNAME:EDT
DTSTART:20190310T070000
END:DAYLIGHT
BEGIN:STANDARD
TZOFFSETFROM:-0400
TZOFFSETTO:-0500
TZNAME:EST
DTSTART:20191103T060000
END:STANDARD
BEGIN:DAYLIGHT
TZOFFSETFROM:-0500
TZOFFSETTO:-0400
TZNAME:EDT
DTSTART:20200308T070000
END:DAYLIGHT
BEGIN:STANDARD
TZOFFSETFROM:-0400
TZOFFSETTO:-0500
TZNAME:EST
DTSTART:20201101T060000
END:STANDARD
BEGIN:DAYLIGHT
TZOFFSETFROM:-0500
TZOFFSETTO:-0400
TZNAME:EDT
DTSTART:20210314T070000
END:DAYLIGHT
BEGIN:STANDARD
TZOFFSETFROM:-0400
TZOFFSETTO:-0500
TZNAME:EST
DTSTART:20211107T060000
END:STANDARD
END:VTIMEZONE
BEGIN:VEVENT
DTSTART;TZID=America/New_York:20201107T100000
DTEND;TZID=America/New_York:20201107T140000
DTSTAMP:20260423T211335
CREATED:20201007T162500Z
LAST-MODIFIED:20201007T163639Z
UID:8160-1604743200-1604757600@foothillspublicshooting.cc
SUMMARY:Foothills November 2020 Falling Steel
DESCRIPTION:Foothills Public Shooting Complex\nFalling Steel Match \nWill be held the 1st Saturday of each month.  Matches will consist of 4 stages and one tie-breaker stage. The objective is to knock over/down as many steel targets within a given amount of time\, the “Par Time.” \nMATCH REGISTRATION:\nRegister online at www.practiscore.com. Your free account there allows you to view stage descriptions and diagrams in advance of the match and view scores after the match. Online registration will close on 7:30 am the day of the match.  You may Walk-In to register\, but your place and squad are not guaranteed. Walk-ins are accepted on a first come\, first served basis until the match has reached capacity. \nSTART TIME:\nFirst shots-10:00 am\, please arrive before 9:45 am. New shooters by 9:30am. Please watch our safety video and fill out waiver prior to match day at www.foothillspublicshooting.cc/waiver if you do not have a Foothills Range card yet. \nLOCATION:  283 Fielding Road\, Cherryville\, NC 28021 \nCOST:  $20.00 first gun and $5.00 for each additional gun (may not be in same division) \nDIVISIONS:\nThere will be 5 divisions based on firearm and equipment: Limited\, Open\, PCCI\, PCCO and Amateur. \n1) Limited: Any firearm legal for USPSA Limited: Limited/L10/Production/Single Stack/Revo or IDPA: SSP/ ESP/SCP/CCP/Revo.\na. Minimum caliber 9×19.\nb. Maximum of 10 per magazine (10+1 in chamber at start. 10 rounds in each subsequent magazine)\nc. No Power Factor\, but steel must fall to score.\nd. Start from holster.\n2) Open: Any pistol in USPSA Open Division\na. Minimum caliber 9×19\nb. Magazines may not be longer than 171.25mm\nc. No maximum round limit\nd. No major/minor Power Factor scoring or requirement\ne. Start from holster. \n3) Pistol Caliber Carbine (PCCI): Any PCC legal in USPSA PCC Division\na. No maximum round limit\nb. Start from low ready.\nc. Iron sights \n4) Pistol Caliber Carbine (PCCO): Any PCC legal in USPSA PCC Division\na. No maximum round limit\nb. Start from low ready.\nc. Optics \n5) Amateur: Those participants who are new to the sport and do not yet possess all the necessary equipment\, i.e.\, holsters\, magazine pouches. Start position will be low ready and magazines may be on the table\, unless otherwise specified by the stage description. It is recommended that you have clothing with pockets for extra magazines if the stage requires movement. \nEQUIPMENT:\na. Any holster that is USPSA or IDPA legal\, that secures the firearm and fully covers the trigger and trigger guard. Magazine pouches. (Not required for Amateur division.)\nb. 200-300 rounds of ammunition\, minimum. All ammo will be checked with a magnet\, no steel-core or bi-metal projectiles allowed. \nSCORING:\nRAW SCORE: is the number of targets down on a stage after the competitor has fired the last shot in the par time.\nSTAGE SCORE: is the Raw Score minus any applicable penalties.\nMATCH SCORE: is the combined total of all STAGE SCORES. The competitor with the highest Match Score is the winner. In the event of a tie\, the lowest tie-breaker time will determine the winner.\nTIE-BREAKER STAGE: competitors are required to knock down every piece of steel on the tie-breaker for a total time.
URL:https://foothillspublicshooting.cc/event/foothills-november-2020-falling-steel/
LOCATION:Foothills Shooting Complex\, 283 Fielding Road\, Cherryville\, NC\, 28021\, United States
CATEGORIES:Range Event
ORGANIZER;CN="Foothills Public Shooting Complex of Cleveland County":MAILTO:ccgr.admin@clevelandcounty.com
END:VEVENT
BEGIN:VEVENT
DTSTART;TZID=America/New_York:20201031T090000
DTEND;TZID=America/New_York:20201031T120000
DTSTAMP:20260423T211335
CREATED:20200918T164855Z
LAST-MODIFIED:20200918T173335Z
UID:7233-1604134800-1604145600@foothillspublicshooting.cc
SUMMARY:Marine Corps League .223 Challenge
DESCRIPTION:This event is organized and operated by the Marine Corps League Foothills Detachment 1164\nYou do not have to be a Marine to participate!\n.223 Challenge\, Iron Sights or Scope. Standing\, Sit/Kneel\, and Prone Position. Entry Fee $40.00 for one\, $60.00 for both. Ammo provided with Entry.\nCall 704-692-7871 for more info and to register. We must have 12 or more pre-registered to hold this event.\nPlease click HERE to watch Foothills safety video and fill out the waiver online before match day!
URL:https://foothillspublicshooting.cc/event/marine-corps-league-223-challenge/
LOCATION:Foothills Shooting Complex\, 283 Fielding Road\, Cherryville\, NC\, 28021\, United States
CATEGORIES:Range Event
END:VEVENT
BEGIN:VEVENT
DTSTART;TZID=America/New_York:20201031T080000
DTEND;TZID=America/New_York:20201031T170000
DTSTAMP:20260423T211335
CREATED:20200918T165447Z
LAST-MODIFIED:20201007T163707Z
UID:7238-1604131200-1604163600@foothillspublicshooting.cc
SUMMARY:Foothills October Skeet Shoot
DESCRIPTION:Match starts: October 31\, 2020 @ 9:00 AM · Match ends: October 31\, 2020 @ 5:00 PM\nREGISTER HERE \nBack by popular demand! This match will be held on months with a 5th Saturday. Each competitor will shoot 50 clays. 12\, 20\, 28 and 410 gauge is allowed. Limited to 40 competitors. Price is $20. Please pre-register\, choose your squad/start time and position. You will receive a confirmation email when your squad is filled. All competitors and spectators must have a Foothills range card or view our safety video and submit your waiver online HERE before match day. See you there!
URL:https://foothillspublicshooting.cc/event/foothills-october-skeet-shoot/
LOCATION:Foothills Shooting Complex\, 283 Fielding Road\, Cherryville\, NC\, 28021\, United States
CATEGORIES:Range Event
ORGANIZER;CN="Foothills Public Shooting Complex of Cleveland County":MAILTO:ccgr.admin@clevelandcounty.com
END:VEVENT
BEGIN:VEVENT
DTSTART;TZID=America/New_York:20201024T093000
DTEND;TZID=America/New_York:20201024T140000
DTSTAMP:20260423T211335
CREATED:20200918T165229Z
LAST-MODIFIED:20201007T163724Z
UID:7236-1603531800-1603548000@foothillspublicshooting.cc
SUMMARY:Foothills October Steel Challenge
DESCRIPTION:Every FOURTH Saturday we will run this fun handgun caliber only match. \nREGISTER HERE \nNo rimfire divisions will be run due to social distancing requirements. Check back to see if this changes! \nDESCRIPTION:\n*4 Stages of steel targets arranged randomly at distances from 15-25 yards\n*5 Timed strings with the slowest string thrown out\n*$20 first Firearm/ Division and $5 for additional Firearm/ Division\n*Need 100 rounds of ammo min. (200-300+ rounds and extra mags recommended)\nDivisions will be:\nHandguns\nOpen (OPN)\nLimited (LTD)\nProduction (PROD)\nSingle Stack (SS)\nIron Sight Revolver (ISR)\nOpen Revolver (OSR)\nCarry Optics (CO)\nN/A Rimfire Pistol Irons (RFPI)\nN/A Rimfire Pistol Open (RFPO)\nLong guns\nN/A Rimfire Rifle Irons (RFRI)\nN/A Rimfire Rifle Open (RFRO)\nPistol Caliber Carbine Irons (PCCI)\nPistol Caliber Carbine Open (PCCO)\nCheck out Appendix H in the SCSA Rules to verify your division.\nSteel Challenge Rules\nALL VISITORS MUST HAVE A RANGE CARD OR HAVE watched the safety VIDEO AND WAIVER! prior to match day.  THIS INCLUDES SPECTATORS!\nPlease arrive no later than 9:30am to allow for check-in time!!\nSee you there-
URL:https://foothillspublicshooting.cc/event/foothills-october-steel-challenge/
LOCATION:Foothills Shooting Complex\, 283 Fielding Road\, Cherryville\, NC\, 28021\, United States
CATEGORIES:Range Event
ORGANIZER;CN="Foothills Public Shooting Complex of Cleveland County":MAILTO:ccgr.admin@clevelandcounty.com
END:VEVENT
BEGIN:VEVENT
DTSTART;TZID=America/New_York:20201003T100000
DTEND;TZID=America/New_York:20201003T140000
DTSTAMP:20260423T211335
CREATED:20200918T163957Z
LAST-MODIFIED:20200918T171030Z
UID:7230-1601719200-1601733600@foothillspublicshooting.cc
SUMMARY:Foothills October Falling Steel
DESCRIPTION:This fun match happens every first Saturday of the month. Knock down as many steel targets as you can in the allotted time.\nREGISTER HERE\nSTART TIME: 10:00 am\, please arrive by 9:30 am!\nLOCATION: 283 Fielding Road\, Cherryville\, NC 28021\nCOST: $20.00 first gun and $5.00 for each additional gun (may not be in same division)\nDIVISIONS:\nThere will be 4 divisions based on firearm and equipment: Limited\, Open\, PCC and Amateur\n1) Limited: Any firearm legal for USPSA Limited: Limited/L10/Production/Single Stack/Revo or IDPA: SSP/ ESP/SCP/CCP/Revo.\na. Minimum caliber 9×19.\nb. Maximum of 10 per magazine (10+1 in chamber at start. 10 rounds in each subsequent magazine)\nc. No Power Factor\, but steel must fall to score.\nd. Start from holster.\n2) Open: Any pistol in USPSA Open Division\na. Minimum caliber 9×19\nb. Magazines may not be longer than 171.25mm\nc. No maximum round limit\nd. No major/minor Power Factor scoring or requirement\ne. Start from holster.\n3) Pistol Caliber Carbine (PCCI): Any PCC legal in USPSA PCC Division\na. No maximum round limit\nb. Start from low ready.\nc. Iron sights\n4) Pistol Caliber Carbine (PCCO): Any PCC legal in USPSA PCC Division\na. No maximum round limit\nb. Start from low ready.\nc. Optics\n5) Amateur: Those participants who are new to the sport and do not yet possess all the necessary equipment\, i.e.\, holsters\, magazine pouches. Start position will be low ready and magazines may be on the table\, unless otherwise specified by the stage description.\nEQUIPMENT:\na. Any holster that is USPSA or IDPA legal\, that secures the firearm and fully covers the trigger and trigger guard. Magazine pouches. (Not required for Amateur division.)\nb. 200-300 rounds of ammunition\, minimum. All ammo will be checked with a magnet\, no steel-core or bi-metal projectiles allowed.\nSCORING:\nRAW SCORE: is the number of targets down on a stage after the competitor has fired the last shot in the par time.\nSTAGE SCORE: is the Raw Score minus any applicable penalties.\nMATCH SCORE: is the combined total of all STAGE SCORES. The competitor with the highest Match Score is the winner. In the event of a tie\, the best score on the stage designated as the TIE-BREAKER STAGE will determine the match winner.\nPlease watch our safety video and fill out waiver prior to match day at www.foothillspublicshooting.cc/waiver if you do not have a Foothills Range card yet. This is required for spectators\, also.\nPlease arrive by 9:30am to allow for check-in time.\nSee you there!!
URL:https://foothillspublicshooting.cc/event/foothills-falling-steel-competition/
LOCATION:Foothills Shooting Complex\, 283 Fielding Road\, Cherryville\, NC\, 28021\, United States
CATEGORIES:Range Event
ORGANIZER;CN="Foothills Public Shooting Complex of Cleveland County":MAILTO:ccgr.admin@clevelandcounty.com
END:VEVENT
BEGIN:VEVENT
DTSTART;TZID=America/New_York:20200926T093000
DTEND;TZID=America/New_York:20200926T140000
DTSTAMP:20260423T211335
CREATED:20200918T170338Z
LAST-MODIFIED:20200924T223631Z
UID:7240-1601112600-1601128800@foothillspublicshooting.cc
SUMMARY:Foothills September Steel Challenge
DESCRIPTION:CANCELLED DUE TO LACK OF PREREGISTRATION!\nNo Rimfire Divs to allow for Social Distancing. (Please check back later to confirm.)\nJoin us every FOURTH Saturday for this fun handgun caliber only match.\nREGISTER HERE\nDESCRIPTION:\n*4 Stages of steel targets arranged randomly at distances from 15-25 yards\n*5 Timed strings with the slowest string thrown out\n*$20 first Firearm/ Division and $5 for additional Firearm/ Division\n*Need 100 rounds of ammo min. (200-300+ rounds and extra mags recommended)\nDivisions will be:\nHandguns\nOpen (OPN)\nLimited (LTD)\nProduction (PROD)\nSingle Stack (SS)\nIron Sight Revolver (ISR)\nOpen Revolver (OSR)\nCarry Optics (CO)\nN/A Rimfire Pistol Irons (RFPI)\nN/A Rimfire Pistol Open (RFPO)\nLong guns\nN/A Rimfire Rifle Irons (RFRI)\nN/A Rimfire Rifle Open (RFRO)\nPistol Caliber Carbine Irons (PCCI)\nPistol Caliber Carbine Open (PCCO)\nCheck out Appendix H in the SCSA Rules to verify your division.\nhttps://uspsa.org/viewer/2019_SCSA_Rulebook.pdf\nPlease watch safety video and fill out waiver prior to match day at www.foothillspublicshooting.cc/waiver if you do not have a Foothills Range card yet.\nPlease arrive no later than 9:30am to allow for check-in time!!\nSee you there-
URL:https://foothillspublicshooting.cc/event/foothills-september-steel-challenge/
LOCATION:Foothills Shooting Complex\, 283 Fielding Road\, Cherryville\, NC\, 28021\, United States
CATEGORIES:Range Event
ORGANIZER;CN="Foothills Public Shooting Complex of Cleveland County":MAILTO:ccgr.admin@clevelandcounty.com
END:VEVENT
END:VCALENDAR