BEGIN:VCALENDAR
VERSION:2.0
PRODID:-//Foothills Public Shooting Complex - ECPv6.15.20//NONSGML v1.0//EN
CALSCALE:GREGORIAN
METHOD:PUBLISH
X-WR-CALNAME:Foothills Public Shooting Complex
X-ORIGINAL-URL:https://foothillspublicshooting.cc
X-WR-CALDESC:Events for Foothills Public Shooting Complex
REFRESH-INTERVAL;VALUE=DURATION:PT1H
X-Robots-Tag:noindex
X-PUBLISHED-TTL:PT1H
BEGIN:VTIMEZONE
TZID:America/New_York
BEGIN:DAYLIGHT
TZOFFSETFROM:-0500
TZOFFSETTO:-0400
TZNAME:EDT
DTSTART:20250309T070000
END:DAYLIGHT
BEGIN:STANDARD
TZOFFSETFROM:-0400
TZOFFSETTO:-0500
TZNAME:EST
DTSTART:20251102T060000
END:STANDARD
BEGIN:DAYLIGHT
TZOFFSETFROM:-0500
TZOFFSETTO:-0400
TZNAME:EDT
DTSTART:20260308T070000
END:DAYLIGHT
BEGIN:STANDARD
TZOFFSETFROM:-0400
TZOFFSETTO:-0500
TZNAME:EST
DTSTART:20261101T060000
END:STANDARD
BEGIN:DAYLIGHT
TZOFFSETFROM:-0500
TZOFFSETTO:-0400
TZNAME:EDT
DTSTART:20270314T070000
END:DAYLIGHT
BEGIN:STANDARD
TZOFFSETFROM:-0400
TZOFFSETTO:-0500
TZNAME:EST
DTSTART:20271107T060000
END:STANDARD
END:VTIMEZONE
BEGIN:VEVENT
DTSTART;TZID=America/New_York:20260424T080000
DTEND;TZID=America/New_York:20260426T160000
DTSTAMP:20260423T054434
CREATED:20251229T202143Z
LAST-MODIFIED:20251229T202143Z
UID:64556-1777017600-1777219200@foothillspublicshooting.cc
SUMMARY:NC State Steel Challenge
DESCRIPTION:The Foothills Public Shooting Complex is proud to announce the 2026 NC State Steel Challenge Championship! \nMatch starts: April 24\, 2026 @ 9:00 AM · Match ends: April 26\, 2026 @ 4:00 PM \nLocation: 283 Fielding Road\nCherryville\, NC 28021 \nThis is an SCSA Tier II Championship Match. 6 of the 8 official stages will be shot. We will not shoot Outer Limits and Speed Option. Note: You must be a SCSA Member to shoot this event. \nThere will be 2 Sessions on Friday (ROs and Limited Competitors); 2 Sessions on Saturday; and 1 Session on Sunday. Maximum of 2 firearms per flight. \nSPECIAL NOTE: This is a Trophy Only Match. Awards will be based on entries. \nAll shooters and NON-SHOOTERS must have a current (less than 1-year-old) Foothills Public Shooting Complex Waiver on file to be anywhere on the Foothills Public Shooting Complex Property. Everyone must check in at the office prior to going out on the Range. Online video and wavier can be found on the website: https://foothillspublicshooting.cc/ or can be done in the office. \nRefund Policy – No refunds after March 1\, 2025 *refunds are subject to a 6% admin fee \nSHIRTS: NC State Jerseys are available for purchase. Lead time is at least 4 weeks. \nThere are 2 shipping options: have 2 shipping options for their orders:\n$65.00 Ship Directly to you\n$48.00 If you pick up at Registration Day of Match \nMatch Director: Sandra Orvig (sandra.orvig@clevelandcountync.gov)\nRange Master: Zack Jones (zack@uspsa.org) \nFor more information\, please call our office 704-447-8231
URL:https://foothillspublicshooting.cc/event/nc-state-steel-challenge-2/
LOCATION:Foothills Shooting Complex\, 283 Fielding Road\, Cherryville\, NC\, 28021\, United States
CATEGORIES:Range Event
ATTACH;FMTTYPE=image/png:https://foothillspublicshooting.cc/wp-content/uploads/2025/01/logo_new.png
ORGANIZER;CN="Foothills Public Shooting Complex of Cleveland County":MAILTO:ccgr.admin@clevelandcounty.com
END:VEVENT
BEGIN:VEVENT
DTSTART;TZID=America/New_York:20260501T080000
DTEND;TZID=America/New_York:20260503T170000
DTSTAMP:20260423T054434
CREATED:20251229T202442Z
LAST-MODIFIED:20251229T202442Z
UID:64558-1777622400-1777827600@foothillspublicshooting.cc
SUMMARY:Foothills GSSF Match V
DESCRIPTION:Save the Date for the 2026 GSSF Event! Come out and experience the excitement of our fifth Annual Foothills GSSF Match\, May 1-3\, 2026.\n \nThis event is part of the Glock Sport Shooting Foundation match series. https://gssf.pro/\n \nShoot on either Saturday\, Sunday\, or both days. Matches consist of three “stages of fire”: “Five to Glock”\, “Glock ‘M”\, and “Glock the Plates” with both paper and steel targets. Shooting continues until all registered entries have completed their stages.\n \nGSSF membership is required of all competitors.\nhttps://gssf.pro/membership/
URL:https://foothillspublicshooting.cc/event/foothills-gssf-match-v/
LOCATION:Foothills Shooting Complex\, 283 Fielding Road\, Cherryville\, NC\, 28021\, United States
CATEGORIES:Range Event
ATTACH;FMTTYPE=image/jpeg:https://foothillspublicshooting.cc/wp-content/uploads/2022/05/GLK464_GSSF_Pro_Logo_Re-Design_5x5in_20220120.jpg
END:VEVENT
BEGIN:VEVENT
DTSTART;TZID=America/New_York:20260523T080000
DTEND;TZID=America/New_York:20260523T160000
DTSTAMP:20260423T054434
CREATED:20251229T195306Z
LAST-MODIFIED:20260101T223845Z
UID:64522-1779523200-1779552000@foothillspublicshooting.cc
SUMMARY:Steel Challenge Match
DESCRIPTION:We now have a morning session and afternoon session! Morning session registration starts at 8:00 am with first shot at 9:00 am and afternoon registration starts at starts at 12:00 pm with first shot at 1:00 pm. \n\nDESCRIPTION:\n*4 Stages of steel targets arranged randomly at distances from 15-25 yards\n*5 Timed strings with the slowest string thrown out\n*$20 first Firearm/ Division and $5 for additional Firearm/ Division\n*Need 100 rounds of ammo min. (200-300+ rounds and extra mags recommended)\n \nDivisions will be:\nHandguns\nOpen (OPN)\nLimited (LTD)\nProduction (PROD)\nSingle Stack (SS)\nIron Sight Revolver (ISR)\nOpen Revolver (OSR)\nCarry Optics (CO)\nRimfire Pistol Irons (RFPI)\nRimfire Pistol Open (RFPO)\nLong guns\nRimfire Rifle Irons (RFRI)\nRimfire Rifle Open (RFRO)\nPistol Caliber Carbine Irons (PCCI)\nPistol Caliber Carbine Open (PCCO)\n \nCheck out Appendix H in the SCSA Rules to verify your division.\nhttps://uspsa.org/viewer/2019_SCSA_Rulebook.pdf\n \nALL VISITORS MUST HAVE A RANGE CARD OR HAVE watched the safety video and fill out a waiver prior to match day at www.foothillspublicshooting.cc/waiver\n \nTHIS INCLUDES SPECTATORS!\n \nPlease arrive no later than 8:30 am for the morning session and 12:30 pm to allow for check-in time!!
URL:https://foothillspublicshooting.cc/event/steel-challenge-match-34/
LOCATION:Foothills Shooting Complex\, 283 Fielding Road\, Cherryville\, NC\, 28021\, United States
CATEGORIES:Range Event
ATTACH;FMTTYPE=image/jpeg:https://foothillspublicshooting.cc/wp-content/uploads/2024/11/DSC03546-scaled.jpg
ORGANIZER;CN="Foothills Public Shooting Complex of Cleveland County":MAILTO:ccgr.admin@clevelandcounty.com
END:VEVENT
BEGIN:VEVENT
DTSTART;TZID=America/New_York:20260718T080000
DTEND;TZID=America/New_York:20260719T170000
DTSTAMP:20260423T054434
CREATED:20260105T145737Z
LAST-MODIFIED:20260105T145737Z
UID:64608-1784361600-1784480400@foothillspublicshooting.cc
SUMMARY:ASA NC State
DESCRIPTION:Shotgun Start \nMore information coming soon! Learn more at: https://asaarchery.com/
URL:https://foothillspublicshooting.cc/event/asa-nc-state/
LOCATION:Foothills Shooting Complex\, 283 Fielding Road\, Cherryville\, NC\, 28021\, United States
CATEGORIES:Range Event
ATTACH;FMTTYPE=image/jpeg:https://foothillspublicshooting.cc/wp-content/uploads/2017/01/Archery-Practice-e1712085727470.jpg
ORGANIZER;CN="Foothills Public Shooting Complex of Cleveland County":MAILTO:ccgr.admin@clevelandcounty.com
END:VEVENT
BEGIN:VEVENT
DTSTART;TZID=America/New_York:20260815T080000
DTEND;TZID=America/New_York:20260816T170000
DTSTAMP:20260423T054434
CREATED:20260105T145414Z
LAST-MODIFIED:20260105T145842Z
UID:64604-1786780800-1786899600@foothillspublicshooting.cc
SUMMARY:Bow Hunter Challenge
DESCRIPTION:August 15-16th\, 2026\, 8:30 AM – 3 PM \nCards in by 5:00 PM – Casual Start \n20 Challenge Shots\, Bring at least 5+ Arrows \n  \nShooting off a high bank \nYou will shoot 5 arrows from 5 different stakes at 5 different targets before you pull. Two times = 10 downhill targets. The remaining 10 targets will be on level ground. \n12’s and 14’s in play. \nHunter Class Rules: Pines – 12″ Stabilizer\, no lens; Slider – 15″ Stabilizer + Lens \nYou must touch the shooting stakes. No crossbows or broadheads.
URL:https://foothillspublicshooting.cc/event/bow-hunter-challenge-3/
LOCATION:Foothills Shooting Complex\, 283 Fielding Road\, Cherryville\, NC\, 28021\, United States
CATEGORIES:Range Event
ATTACH;FMTTYPE=image/jpeg:https://foothillspublicshooting.cc/wp-content/uploads/2024/12/logo.jpg
ORGANIZER;CN="Foothills Public Shooting Complex of Cleveland County":MAILTO:ccgr.admin@clevelandcounty.com
END:VEVENT
END:VCALENDAR