BEGIN:VCALENDAR
VERSION:2.0
PRODID:-//Foothills Public Shooting Complex - ECPv6.15.20//NONSGML v1.0//EN
CALSCALE:GREGORIAN
METHOD:PUBLISH
X-WR-CALNAME:Foothills Public Shooting Complex
X-ORIGINAL-URL:https://foothillspublicshooting.cc
X-WR-CALDESC:Events for Foothills Public Shooting Complex
REFRESH-INTERVAL;VALUE=DURATION:PT1H
X-Robots-Tag:noindex
X-PUBLISHED-TTL:PT1H
BEGIN:VTIMEZONE
TZID:America/New_York
BEGIN:DAYLIGHT
TZOFFSETFROM:-0500
TZOFFSETTO:-0400
TZNAME:EDT
DTSTART:20250309T070000
END:DAYLIGHT
BEGIN:STANDARD
TZOFFSETFROM:-0400
TZOFFSETTO:-0500
TZNAME:EST
DTSTART:20251102T060000
END:STANDARD
BEGIN:DAYLIGHT
TZOFFSETFROM:-0500
TZOFFSETTO:-0400
TZNAME:EDT
DTSTART:20260308T070000
END:DAYLIGHT
BEGIN:STANDARD
TZOFFSETFROM:-0400
TZOFFSETTO:-0500
TZNAME:EST
DTSTART:20261101T060000
END:STANDARD
BEGIN:DAYLIGHT
TZOFFSETFROM:-0500
TZOFFSETTO:-0400
TZNAME:EDT
DTSTART:20270314T070000
END:DAYLIGHT
BEGIN:STANDARD
TZOFFSETFROM:-0400
TZOFFSETTO:-0500
TZNAME:EST
DTSTART:20271107T060000
END:STANDARD
END:VTIMEZONE
BEGIN:VEVENT
DTSTART;TZID=America/New_York:20260815T080000
DTEND;TZID=America/New_York:20260816T170000
DTSTAMP:20260423T114115
CREATED:20260105T145414Z
LAST-MODIFIED:20260105T145842Z
UID:64604-1786780800-1786899600@foothillspublicshooting.cc
SUMMARY:Bow Hunter Challenge
DESCRIPTION:August 15-16th\, 2026\, 8:30 AM – 3 PM \nCards in by 5:00 PM – Casual Start \n20 Challenge Shots\, Bring at least 5+ Arrows \n  \nShooting off a high bank \nYou will shoot 5 arrows from 5 different stakes at 5 different targets before you pull. Two times = 10 downhill targets. The remaining 10 targets will be on level ground. \n12’s and 14’s in play. \nHunter Class Rules: Pines – 12″ Stabilizer\, no lens; Slider – 15″ Stabilizer + Lens \nYou must touch the shooting stakes. No crossbows or broadheads.
URL:https://foothillspublicshooting.cc/event/bow-hunter-challenge-3/
LOCATION:Foothills Shooting Complex\, 283 Fielding Road\, Cherryville\, NC\, 28021\, United States
CATEGORIES:Range Event
ATTACH;FMTTYPE=image/jpeg:https://foothillspublicshooting.cc/wp-content/uploads/2024/12/logo.jpg
ORGANIZER;CN="Foothills Public Shooting Complex of Cleveland County":MAILTO:ccgr.admin@clevelandcounty.com
END:VEVENT
END:VCALENDAR