BEGIN:VCALENDAR
VERSION:2.0
PRODID:-//Foothills Public Shooting Complex - ECPv6.15.20//NONSGML v1.0//EN
CALSCALE:GREGORIAN
METHOD:PUBLISH
X-ORIGINAL-URL:https://foothillspublicshooting.cc
X-WR-CALDESC:Events for Foothills Public Shooting Complex
REFRESH-INTERVAL;VALUE=DURATION:PT1H
X-Robots-Tag:noindex
X-PUBLISHED-TTL:PT1H
BEGIN:VTIMEZONE
TZID:America/New_York
BEGIN:DAYLIGHT
TZOFFSETFROM:-0500
TZOFFSETTO:-0400
TZNAME:EDT
DTSTART:20250309T070000
END:DAYLIGHT
BEGIN:STANDARD
TZOFFSETFROM:-0400
TZOFFSETTO:-0500
TZNAME:EST
DTSTART:20251102T060000
END:STANDARD
BEGIN:DAYLIGHT
TZOFFSETFROM:-0500
TZOFFSETTO:-0400
TZNAME:EDT
DTSTART:20260308T070000
END:DAYLIGHT
BEGIN:STANDARD
TZOFFSETFROM:-0400
TZOFFSETTO:-0500
TZNAME:EST
DTSTART:20261101T060000
END:STANDARD
BEGIN:DAYLIGHT
TZOFFSETFROM:-0500
TZOFFSETTO:-0400
TZNAME:EDT
DTSTART:20270314T070000
END:DAYLIGHT
BEGIN:STANDARD
TZOFFSETFROM:-0400
TZOFFSETTO:-0500
TZNAME:EST
DTSTART:20271107T060000
END:STANDARD
END:VTIMEZONE
BEGIN:VEVENT
DTSTART;TZID=America/New_York:20260307T080000
DTEND;TZID=America/New_York:20260308T170000
DTSTAMP:20260423T053849
CREATED:20260105T144702Z
LAST-MODIFIED:20260105T145437Z
UID:64601-1772870400-1772989200@foothillspublicshooting.cc
SUMMARY:Believer Archery - 3D Archery Shoot
DESCRIPTION:8:30 AM Start\, March 7-8th \nCards in by 4 PM – Casual Start \nIncludes 20 Delta/McKenzie 3d Targets
URL:https://foothillspublicshooting.cc/event/believer-archery-3d-archery-shoot-3/
LOCATION:Foothills Shooting Complex\, 283 Fielding Road\, Cherryville\, NC\, 28021\, United States
CATEGORIES:Range Event
ATTACH;FMTTYPE=image/jpeg:https://foothillspublicshooting.cc/wp-content/uploads/2026/01/Believer-Logo.jpg
ORGANIZER;CN="Foothills Public Shooting Complex of Cleveland County":MAILTO:ccgr.admin@clevelandcounty.com
END:VEVENT
BEGIN:VEVENT
DTSTART;TZID=America/New_York:20260314T080000
DTEND;TZID=America/New_York:20260314T150000
DTSTAMP:20260423T053849
CREATED:20251229T192825Z
LAST-MODIFIED:20251229T192825Z
UID:64514-1773475200-1773500400@foothillspublicshooting.cc
SUMMARY:Metal Madness
DESCRIPTION:Registration starts at 8:00 and first shot is at 9:00. Everyone must be registered by 2:00. \nThey will need to call our office to pre-register so we can squad them and let them know what time their squad will be shooting. \n\nWhile Metal Madness is for .22 only\, Metal Madness Unlimited is for 45 ACP or smaller.\n\n\n \n\n\nThe scoring is based on five (5) Bays with five (5) targets each for a total of twenty-five (25) targets. Each target must be hit at least once to be scorable. Participants will shoot each target set of 5 targets\, three (3) strings keeping the fastest time for score. The fastest times will be combined from each stage for an aggregate bracket score.\n \n\n\nFirearm Classifications\nOpen:\nAny firearm (pistol\, revolver\, 22LR caliber rifle\, or 45 ACP or smaller pistol\, revolver\, PCC) with scopes\, optical sights\, light gathering scopes\, battery powered optics\, reflex optics\, or lasers.\n \nStock:\nAny firearm (pistol\, revolver\, 22LR caliber rifle\, or 45 ACP or smaller pistol\, revolver\, PCC)) with iron sights. Adjustable sights\, fiber optics and compensators are allowed. No electronic sights or optics are allowed.\n\n\n$10 for each firearm. Each firearm may be run a second time for $5.
URL:https://foothillspublicshooting.cc/event/metal-madness-17/
LOCATION:Foothills Shooting Complex\, 283 Fielding Road\, Cherryville\, NC\, 28021\, United States
CATEGORIES:Range Event
ATTACH;FMTTYPE=image/jpeg:https://foothillspublicshooting.cc/wp-content/uploads/2024/10/Metal-Madness.jpg
ORGANIZER;CN="Foothills Public Shooting Complex of Cleveland County":MAILTO:ccgr.admin@clevelandcounty.com
END:VEVENT
BEGIN:VEVENT
DTSTART;TZID=America/New_York:20260320T080000
DTEND;TZID=America/New_York:20260322T170000
DTSTAMP:20260423T053849
CREATED:20251229T201848Z
LAST-MODIFIED:20260105T221111Z
UID:64554-1773993600-1774198800@foothillspublicshooting.cc
SUMMARY:SHOOT SIG
DESCRIPTION:About Shoot Sig:  Founded by Team SIG professional shooter Daniel Horner\, SHOOT SIG is a membership community that welcomes all levels of firearms enthusiasts and encourages participation in the shooting sports.  \nWhether you’re new to shooting competitions or an experienced competitor\, you’ll enjoy 3 approachable stages that can be completed in just 100 rounds and an hour. Compete again in the same or another division for a discounted match fee. Bring any pistol or PCC or try out a new SIG pistol or PCC for an additional fee. You must be a SHOOT SIG member and shoot a SIG firearm to be eligible for prizes. \nTo become a member of Shoot Sig see this site:  https://www.sigsauer.com/shootsig \nAs a member\, you unlock the power to: \n\nRegister for SHOOT SIG matches across the country\nParticipate in the SHOOT SIG Product Purchase Program for exclusive member pricing\n15% Webstore cart discount\nAnd much more\n\nNOTE: If you want to shoot in more than one Division or multiple entries in a single Division\, you must first complete your initial registration and pay the initial $45 match fee. Then\, you must register for each additional entry and select “Additional Division” under Extras in the payment information section to receive the discounted match fee of $25. Each additional entry in this manner will allow you to pick a respective Division and Squad; this will result in multiple registrations for the same match being displayed under your PractiScore dashboard profile. \nClick this link for upcoming matches and to register: https://practiscore.com/shoot-sig-foothills-firing-range/register 
URL:https://foothillspublicshooting.cc/event/shoot-sig-2/
LOCATION:Foothills Shooting Complex\, 283 Fielding Road\, Cherryville\, NC\, 28021\, United States
CATEGORIES:Range Event
ATTACH;FMTTYPE=image/jpeg:https://foothillspublicshooting.cc/wp-content/uploads/2024/11/sig.jpg
ORGANIZER;CN="Foothills Public Shooting Complex of Cleveland County":MAILTO:ccgr.admin@clevelandcounty.com
END:VEVENT
BEGIN:VEVENT
DTSTART;TZID=America/New_York:20260322T090000
DTEND;TZID=America/New_York:20260322T130000
DTSTAMP:20260423T053849
CREATED:20251229T201616Z
LAST-MODIFIED:20251229T201616Z
UID:64552-1774170000-1774184400@foothillspublicshooting.cc
SUMMARY:Metal Madness Unlimited
DESCRIPTION:Registration 9-9:45am\nFirst Shot 10:00 am \n\nWhile Metal Madness is for .22 only\, Metal Madness Unlimited is for 45 ACP or smaller.\n\n\n \n\n\nThe scoring is based on five (5) Bays with five (5) targets each for a total of twenty-five (25) targets. Each target must be hit at least once to be scorable. Participants will shoot each target set of 5 targets\, three (3) strings keeping the fastest time for score. The fastest times will be combined from each stage for an aggregate bracket score.\n \n\n\nFirearm Classifications\nOpen:\nAny firearm (pistol\, revolver\, 22LR caliber rifle\, or 45 ACP or smaller pistol\, revolver\, PCC) with scopes\, optical sights\, light gathering scopes\, battery powered optics\, reflex optics\, or lasers.\n \nStock:\nAny firearm (pistol\, revolver\, 22LR caliber rifle\, or 45 ACP or smaller pistol\, revolver\, PCC)) with iron sights. Adjustable sights\, fiber optics and compensators are allowed. No electronic sights or optics are allowed.\n\n\n$10 for each firearm. Each firearm may be run a second time for $5.
URL:https://foothillspublicshooting.cc/event/metal-madness-unlimited-13/
LOCATION:Foothills Shooting Complex\, 283 Fielding Road\, Cherryville\, NC\, 28021\, United States
CATEGORIES:Range Event
ATTACH;FMTTYPE=image/jpeg:https://foothillspublicshooting.cc/wp-content/uploads/2024/10/Metal-Madness.jpg
ORGANIZER;CN="Foothills Public Shooting Complex of Cleveland County":MAILTO:ccgr.admin@clevelandcounty.com
END:VEVENT
BEGIN:VEVENT
DTSTART;TZID=America/New_York:20260328T080000
DTEND;TZID=America/New_York:20260328T160000
DTSTAMP:20260423T053849
CREATED:20251229T195101Z
LAST-MODIFIED:20260101T224019Z
UID:64520-1774684800-1774713600@foothillspublicshooting.cc
SUMMARY:Steel Challenge Match
DESCRIPTION:We now have a morning session and afternoon session! Morning session registration starts at 8:00 am with first shot at 9:00 am and afternoon registration starts at starts at 12:00 pm with first shot at 1:00 pm. \n\nDESCRIPTION:\n*4 Stages of steel targets arranged randomly at distances from 15-25 yards\n*5 Timed strings with the slowest string thrown out\n*$20 first Firearm/ Division and $5 for additional Firearm/ Division\n*Need 100 rounds of ammo min. (200-300+ rounds and extra mags recommended)\n \nDivisions will be:\nHandguns\nOpen (OPN)\nLimited (LTD)\nProduction (PROD)\nSingle Stack (SS)\nIron Sight Revolver (ISR)\nOpen Revolver (OSR)\nCarry Optics (CO)\nRimfire Pistol Irons (RFPI)\nRimfire Pistol Open (RFPO)\nLong guns\nRimfire Rifle Irons (RFRI)\nRimfire Rifle Open (RFRO)\nPistol Caliber Carbine Irons (PCCI)\nPistol Caliber Carbine Open (PCCO)\n \nCheck out Appendix H in the SCSA Rules to verify your division.\nhttps://uspsa.org/viewer/2019_SCSA_Rulebook.pdf\n \nALL VISITORS MUST HAVE A RANGE CARD OR HAVE watched the safety video and fill out a waiver prior to match day at www.foothillspublicshooting.cc/waiver\n \nTHIS INCLUDES SPECTATORS!\n \nPlease arrive no later than 8:30 am for the morning session and 12:30 pm to allow for check-in time!!
URL:https://foothillspublicshooting.cc/event/steel-challenge-match-31/
LOCATION:Foothills Shooting Complex\, 283 Fielding Road\, Cherryville\, NC\, 28021\, United States
CATEGORIES:Range Event
ATTACH;FMTTYPE=image/jpeg:https://foothillspublicshooting.cc/wp-content/uploads/2024/11/DSC03546-scaled.jpg
ORGANIZER;CN="Foothills Public Shooting Complex of Cleveland County":MAILTO:ccgr.admin@clevelandcounty.com
END:VEVENT
END:VCALENDAR