BEGIN:VCALENDAR
VERSION:2.0
PRODID:-//Foothills Public Shooting Complex - ECPv6.15.20//NONSGML v1.0//EN
CALSCALE:GREGORIAN
METHOD:PUBLISH
X-ORIGINAL-URL:https://foothillspublicshooting.cc
X-WR-CALDESC:Events for Foothills Public Shooting Complex
REFRESH-INTERVAL;VALUE=DURATION:PT1H
X-Robots-Tag:noindex
X-PUBLISHED-TTL:PT1H
BEGIN:VTIMEZONE
TZID:America/New_York
BEGIN:DAYLIGHT
TZOFFSETFROM:-0500
TZOFFSETTO:-0400
TZNAME:EDT
DTSTART:20250309T070000
END:DAYLIGHT
BEGIN:STANDARD
TZOFFSETFROM:-0400
TZOFFSETTO:-0500
TZNAME:EST
DTSTART:20251102T060000
END:STANDARD
BEGIN:DAYLIGHT
TZOFFSETFROM:-0500
TZOFFSETTO:-0400
TZNAME:EDT
DTSTART:20260308T070000
END:DAYLIGHT
BEGIN:STANDARD
TZOFFSETFROM:-0400
TZOFFSETTO:-0500
TZNAME:EST
DTSTART:20261101T060000
END:STANDARD
BEGIN:DAYLIGHT
TZOFFSETFROM:-0500
TZOFFSETTO:-0400
TZNAME:EDT
DTSTART:20270314T070000
END:DAYLIGHT
BEGIN:STANDARD
TZOFFSETFROM:-0400
TZOFFSETTO:-0500
TZNAME:EST
DTSTART:20271107T060000
END:STANDARD
END:VTIMEZONE
BEGIN:VEVENT
DTSTART;TZID=America/New_York:20260214T080000
DTEND;TZID=America/New_York:20260214T150000
DTSTAMP:20260423T074324
CREATED:20251229T192521Z
LAST-MODIFIED:20251229T192613Z
UID:64512-1771056000-1771081200@foothillspublicshooting.cc
SUMMARY:Metal Madness
DESCRIPTION:Registration starts at 8:00 and first shot is at 9:00. Everyone must be registered by 2:00. \nThey will need to call our office to pre-register so we can squad them and let them know what time their squad will be shooting. \n\nWhile Metal Madness is for .22 only\, Metal Madness Unlimited is for 45 ACP or smaller.\n\n\n \n\n\nThe scoring is based on five (5) Bays with five (5) targets each for a total of twenty-five (25) targets. Each target must be hit at least once to be scorable. Participants will shoot each target set of 5 targets\, three (3) strings keeping the fastest time for score. The fastest times will be combined from each stage for an aggregate bracket score.\n \n\n\nFirearm Classifications\nOpen:\nAny firearm (pistol\, revolver\, 22LR caliber rifle\, or 45 ACP or smaller pistol\, revolver\, PCC) with scopes\, optical sights\, light gathering scopes\, battery powered optics\, reflex optics\, or lasers.\n \nStock:\nAny firearm (pistol\, revolver\, 22LR caliber rifle\, or 45 ACP or smaller pistol\, revolver\, PCC)) with iron sights. Adjustable sights\, fiber optics and compensators are allowed. No electronic sights or optics are allowed.\n\n\n$10 for each firearm. Each firearm may be run a second time for $5.
URL:https://foothillspublicshooting.cc/event/metal-madness-16/
LOCATION:Foothills Shooting Complex\, 283 Fielding Road\, Cherryville\, NC\, 28021\, United States
CATEGORIES:Range Event
ATTACH;FMTTYPE=image/jpeg:https://foothillspublicshooting.cc/wp-content/uploads/2024/10/Metal-Madness.jpg
ORGANIZER;CN="Foothills Public Shooting Complex of Cleveland County":MAILTO:ccgr.admin@clevelandcounty.com
END:VEVENT
BEGIN:VEVENT
DTSTART;TZID=America/New_York:20260222T090000
DTEND;TZID=America/New_York:20260222T130000
DTSTAMP:20260423T074324
CREATED:20251229T201514Z
LAST-MODIFIED:20251229T201514Z
UID:64550-1771750800-1771765200@foothillspublicshooting.cc
SUMMARY:Metal Madness Unlimited
DESCRIPTION:Registration 9-9:45am\nFirst Shot 10:00 am \n\nWhile Metal Madness is for .22 only\, Metal Madness Unlimited is for 45 ACP or smaller.\n\n\n \n\n\nThe scoring is based on five (5) Bays with five (5) targets each for a total of twenty-five (25) targets. Each target must be hit at least once to be scorable. Participants will shoot each target set of 5 targets\, three (3) strings keeping the fastest time for score. The fastest times will be combined from each stage for an aggregate bracket score.\n \n\n\nFirearm Classifications\nOpen:\nAny firearm (pistol\, revolver\, 22LR caliber rifle\, or 45 ACP or smaller pistol\, revolver\, PCC) with scopes\, optical sights\, light gathering scopes\, battery powered optics\, reflex optics\, or lasers.\n \nStock:\nAny firearm (pistol\, revolver\, 22LR caliber rifle\, or 45 ACP or smaller pistol\, revolver\, PCC)) with iron sights. Adjustable sights\, fiber optics and compensators are allowed. No electronic sights or optics are allowed.\n\n\n$10 for each firearm. Each firearm may be run a second time for $5.
URL:https://foothillspublicshooting.cc/event/metal-madness-unlimited-12/
LOCATION:Foothills Shooting Complex\, 283 Fielding Road\, Cherryville\, NC\, 28021\, United States
CATEGORIES:Range Event
ATTACH;FMTTYPE=image/jpeg:https://foothillspublicshooting.cc/wp-content/uploads/2024/10/Metal-Madness.jpg
ORGANIZER;CN="Foothills Public Shooting Complex of Cleveland County":MAILTO:ccgr.admin@clevelandcounty.com
END:VEVENT
BEGIN:VEVENT
DTSTART;TZID=America/New_York:20260228T080000
DTEND;TZID=America/New_York:20260228T160000
DTSTAMP:20260423T074324
CREATED:20251229T193148Z
LAST-MODIFIED:20260101T224042Z
UID:64518-1772265600-1772294400@foothillspublicshooting.cc
SUMMARY:Steel Challenge Match
DESCRIPTION:We now have a morning session and afternoon session! Morning session registration starts at 8:00 am with first shot at 9:00 am and afternoon registration starts at starts at 12:00 pm with first shot at 1:00 pm. \n\nDESCRIPTION:\n*4 Stages of steel targets arranged randomly at distances from 15-25 yards\n*5 Timed strings with the slowest string thrown out\n*$20 first Firearm/ Division and $5 for additional Firearm/ Division\n*Need 100 rounds of ammo min. (200-300+ rounds and extra mags recommended)\n \nDivisions will be:\nHandguns\nOpen (OPN)\nLimited (LTD)\nProduction (PROD)\nSingle Stack (SS)\nIron Sight Revolver (ISR)\nOpen Revolver (OSR)\nCarry Optics (CO)\nRimfire Pistol Irons (RFPI)\nRimfire Pistol Open (RFPO)\nLong guns\nRimfire Rifle Irons (RFRI)\nRimfire Rifle Open (RFRO)\nPistol Caliber Carbine Irons (PCCI)\nPistol Caliber Carbine Open (PCCO)\n \nCheck out Appendix H in the SCSA Rules to verify your division.\nhttps://uspsa.org/viewer/2019_SCSA_Rulebook.pdf\n \nALL VISITORS MUST HAVE A RANGE CARD OR HAVE watched the safety video and fill out a waiver prior to match day at www.foothillspublicshooting.cc/waiver\n \nTHIS INCLUDES SPECTATORS!\n \nPlease arrive no later than 8:30 am for the morning session and 12:30 pm to allow for check-in time!!
URL:https://foothillspublicshooting.cc/event/steel-challenge-match-21/
LOCATION:Foothills Shooting Complex\, 283 Fielding Road\, Cherryville\, NC\, 28021\, United States
CATEGORIES:Range Event
ATTACH;FMTTYPE=image/jpeg:https://foothillspublicshooting.cc/wp-content/uploads/2024/11/DSC03546-scaled.jpg
ORGANIZER;CN="Foothills Public Shooting Complex of Cleveland County":MAILTO:ccgr.admin@clevelandcounty.com
END:VEVENT
END:VCALENDAR