BEGIN:VCALENDAR
VERSION:2.0
PRODID:-//Foothills Public Shooting Complex - ECPv6.15.20//NONSGML v1.0//EN
CALSCALE:GREGORIAN
METHOD:PUBLISH
X-ORIGINAL-URL:https://foothillspublicshooting.cc
X-WR-CALDESC:Events for Foothills Public Shooting Complex
REFRESH-INTERVAL;VALUE=DURATION:PT1H
X-Robots-Tag:noindex
X-PUBLISHED-TTL:PT1H
BEGIN:VTIMEZONE
TZID:America/New_York
BEGIN:DAYLIGHT
TZOFFSETFROM:-0500
TZOFFSETTO:-0400
TZNAME:EDT
DTSTART:20240310T070000
END:DAYLIGHT
BEGIN:STANDARD
TZOFFSETFROM:-0400
TZOFFSETTO:-0500
TZNAME:EST
DTSTART:20241103T060000
END:STANDARD
BEGIN:DAYLIGHT
TZOFFSETFROM:-0500
TZOFFSETTO:-0400
TZNAME:EDT
DTSTART:20250309T070000
END:DAYLIGHT
BEGIN:STANDARD
TZOFFSETFROM:-0400
TZOFFSETTO:-0500
TZNAME:EST
DTSTART:20251102T060000
END:STANDARD
BEGIN:DAYLIGHT
TZOFFSETFROM:-0500
TZOFFSETTO:-0400
TZNAME:EDT
DTSTART:20260308T070000
END:DAYLIGHT
BEGIN:STANDARD
TZOFFSETFROM:-0400
TZOFFSETTO:-0500
TZNAME:EST
DTSTART:20261101T060000
END:STANDARD
END:VTIMEZONE
BEGIN:VEVENT
DTSTART;TZID=America/New_York:20250816T083000
DTEND;TZID=America/New_York:20250817T083000
DTSTAMP:20260423T191619
CREATED:20241106T175005Z
LAST-MODIFIED:20241106T175005Z
UID:57920-1755333000-1755419400@foothillspublicshooting.cc
SUMMARY:Bow Hunter Challenge
DESCRIPTION:20 Realistic Shots \n5 Arrows minimum \n  \nTime:  8:30 am  Cards turned in before 4:00 pm \nAwards to begin immediately after \n  \nHunter Classes \n12’ Stabilizer\, No Lens\, 30 yd Max \n  \nNon-Hunter ($20.00) \nShoot For Fun \nRecurve \nMale/Female/Sr (>50) \n  \nHunter Male\, Female ($15.00) \n  \nYoung Adult 13-17 Male\, Female ($15.00) \nYouth  12< Male\, Female ($15.00) \n(Shooting for fun\, no awards) \n  \nTough Man Challenge (Two-man Teams) \n11:00 am-3:00 pm \n*If there is a Tie\, there will be a shoot-off \n  \nSide Shoot \n$10.00 per run \n6 Shots Total \nMust touch shooting stake \n  \nConcessions:  Hotdogs\, snacks\, drinks\, water
URL:https://foothillspublicshooting.cc/event/bow-hunter-challenge-2/
LOCATION:Foothills Shooting Complex\, 283 Fielding Road\, Cherryville\, NC\, 28021\, United States
CATEGORIES:Range Event
ORGANIZER;CN="Foothills Public Shooting Complex of Cleveland County":MAILTO:ccgr.admin@clevelandcounty.com
END:VEVENT
BEGIN:VEVENT
DTSTART;TZID=America/New_York:20250830T090000
DTEND;TZID=America/New_York:20250830T170000
DTSTAMP:20260423T191619
CREATED:20241106T173747Z
LAST-MODIFIED:20241106T173747Z
UID:57916-1756544400-1756573200@foothillspublicshooting.cc
SUMMARY:Mini Skeet Tournament
DESCRIPTION:Our Mini Skeet Tournament is back by popular demand! This match will be held on months with a 5th Saturday. Each competitor will shoot 2 Rounds (50 clays).  Only 12\, 20\, 28 and 410 gauge is allowed. This shoot is limited to 35 competitors.  \nPre-registration and squad selection is available at www.practiscore.com. You will receive a confirmation email when your squad is filled.  You can make a free account at Practiscore!  This will enable you to view scores and find competitions in your area! \n7 squads with 5 positions.  (We ask you to choose your 1st squad choice and then a 2nd) \nStart Times:  9am\, 10am\, 11am\, 1pm\, 2pm\, 3pm or 4pm\nEntry Fee is $20.00 \nAll competitors and spectators must view our safety video and submit your NEW waiver online at www.foothillspublicshooting.cc/waiver before match day.
URL:https://foothillspublicshooting.cc/event/mini-skeet-tournament-4/
LOCATION:Foothills Training Center\, 1642 Pinedale Rd\, Cherryville\, NC\, 28021\, United States
CATEGORIES:Range Event
ATTACH;FMTTYPE=image/png:https://foothillspublicshooting.cc/wp-content/uploads/2017/01/cropped-Range-Logo-1.png
ORGANIZER;CN="Foothills Public Shooting Complex of Cleveland County":MAILTO:ccgr.admin@clevelandcounty.com
END:VEVENT
END:VCALENDAR