BEGIN:VCALENDAR
VERSION:2.0
PRODID:-//Foothills Public Shooting Complex - ECPv6.15.20//NONSGML v1.0//EN
CALSCALE:GREGORIAN
METHOD:PUBLISH
X-ORIGINAL-URL:https://foothillspublicshooting.cc
X-WR-CALDESC:Events for Foothills Public Shooting Complex
REFRESH-INTERVAL;VALUE=DURATION:PT1H
X-Robots-Tag:noindex
X-PUBLISHED-TTL:PT1H
BEGIN:VTIMEZONE
TZID:America/New_York
BEGIN:DAYLIGHT
TZOFFSETFROM:-0500
TZOFFSETTO:-0400
TZNAME:EDT
DTSTART:20230312T070000
END:DAYLIGHT
BEGIN:STANDARD
TZOFFSETFROM:-0400
TZOFFSETTO:-0500
TZNAME:EST
DTSTART:20231105T060000
END:STANDARD
BEGIN:DAYLIGHT
TZOFFSETFROM:-0500
TZOFFSETTO:-0400
TZNAME:EDT
DTSTART:20240310T070000
END:DAYLIGHT
BEGIN:STANDARD
TZOFFSETFROM:-0400
TZOFFSETTO:-0500
TZNAME:EST
DTSTART:20241103T060000
END:STANDARD
BEGIN:DAYLIGHT
TZOFFSETFROM:-0500
TZOFFSETTO:-0400
TZNAME:EDT
DTSTART:20250309T070000
END:DAYLIGHT
BEGIN:STANDARD
TZOFFSETFROM:-0400
TZOFFSETTO:-0500
TZNAME:EST
DTSTART:20251102T060000
END:STANDARD
END:VTIMEZONE
BEGIN:VEVENT
DTSTART;TZID=America/New_York:20240525T083000
DTEND;TZID=America/New_York:20240525T153000
DTSTAMP:20260424T224804
CREATED:20240122T160400Z
LAST-MODIFIED:20240531T211626Z
UID:47823-1716625800-1716651000@foothillspublicshooting.cc
SUMMARY:Steel Challenge Match
DESCRIPTION:We have rimfire! This SCSA-sanctioned match is scheduled for every 4TH Saturday at Foothills (Feb-Oct). \nWe now have a morning session and afternoon session! Morning session registration starts at 8:00 am with first shot at 9:00 am and afternoon registration starts at starts at 12:00 pm with first shot at 1:00 pm. \n\nDESCRIPTION:\n*4 Stages of steel targets arranged randomly at distances from 15-25 yards\n*5 Timed strings with the slowest string thrown out\n*$20 first Firearm/ Division and $5 for additional Firearm/ Division\n*Need 100 rounds of ammo min. (200-300+ rounds and extra mags recommended)\n \nDivisions will be:\nHandguns\nOpen (OPN)\nLimited (LTD)\nProduction (PROD)\nSingle Stack (SS)\nIron Sight Revolver (ISR)\nOpen Revolver (OSR)\nCarry Optics (CO)\nRimfire Pistol Irons (RFPI)\nRimfire Pistol Open (RFPO)\nLong guns\nRimfire Rifle Irons (RFRI)\nRimfire Rifle Open (RFRO)\nPistol Caliber Carbine Irons (PCCI)\nPistol Caliber Carbine Open (PCCO)\n \nCheck out Appendix H in the SCSA Rules to verify your division.\nhttps://uspsa.org/viewer/2019_SCSA_Rulebook.pdf\n \nALL VISITORS MUST HAVE A RANGE CARD OR HAVE watched the safety video and fill out a waiver prior to match day at www.foothillspublicshooting.cc/waiver\n \nTHIS INCLUDES SPECTATORS!\n \nPlease arrive no later than 8:30 am for the morning session and 12:30 pm to allow for check-in time!!
URL:https://foothillspublicshooting.cc/event/steel-challenge-match-15/
LOCATION:Foothills Shooting Complex\, 283 Fielding Road\, Cherryville\, NC\, 28021\, United States
CATEGORIES:Range Event
ATTACH;FMTTYPE=image/jpeg:https://foothillspublicshooting.cc/wp-content/uploads/2023/02/SteelChallenge.jpg
ORGANIZER;CN="Foothills Public Shooting Complex of Cleveland County":MAILTO:ccgr.admin@clevelandcounty.com
END:VEVENT
END:VCALENDAR