BEGIN:VCALENDAR
VERSION:2.0
PRODID:-//Foothills Public Shooting Complex - ECPv6.15.20//NONSGML v1.0//EN
CALSCALE:GREGORIAN
METHOD:PUBLISH
X-WR-CALNAME:Foothills Public Shooting Complex
X-ORIGINAL-URL:https://foothillspublicshooting.cc
X-WR-CALDESC:Events for Foothills Public Shooting Complex
REFRESH-INTERVAL;VALUE=DURATION:PT1H
X-Robots-Tag:noindex
X-PUBLISHED-TTL:PT1H
BEGIN:VTIMEZONE
TZID:America/New_York
BEGIN:DAYLIGHT
TZOFFSETFROM:-0500
TZOFFSETTO:-0400
TZNAME:EDT
DTSTART:20220313T070000
END:DAYLIGHT
BEGIN:STANDARD
TZOFFSETFROM:-0400
TZOFFSETTO:-0500
TZNAME:EST
DTSTART:20221106T060000
END:STANDARD
BEGIN:DAYLIGHT
TZOFFSETFROM:-0500
TZOFFSETTO:-0400
TZNAME:EDT
DTSTART:20230312T070000
END:DAYLIGHT
BEGIN:STANDARD
TZOFFSETFROM:-0400
TZOFFSETTO:-0500
TZNAME:EST
DTSTART:20231105T060000
END:STANDARD
BEGIN:DAYLIGHT
TZOFFSETFROM:-0500
TZOFFSETTO:-0400
TZNAME:EDT
DTSTART:20240310T070000
END:DAYLIGHT
BEGIN:STANDARD
TZOFFSETFROM:-0400
TZOFFSETTO:-0500
TZNAME:EST
DTSTART:20241103T060000
END:STANDARD
END:VTIMEZONE
BEGIN:VEVENT
DTSTART;TZID=America/New_York:20230610T093000
DTEND;TZID=America/New_York:20230610T140000
DTSTAMP:20260425T173159
CREATED:20230501T162228Z
LAST-MODIFIED:20230501T162228Z
UID:38389-1686389400-1686405600@foothillspublicshooting.cc
SUMMARY:Fallin' Steel Challenge
DESCRIPTION:FIRST SHOTS: 10:00 am\, please plan to be at the range office no later than 9:30 am! \n\n\nLOCATION: 283 Fielding Road\, Cherryville\, NC 28021 \nCOST: $20.00 first gun and $5.00 for each additional gun (may not be in same division) \n\nDIVISIONS:\nThere will be 6 divisions based on firearm and equipment: Limited\, Open\, PCCI\, PCCO\, Amateur\, and Carry Optics\n1) Limited: Any firearm legal for USPSA Limited: Limited/L10/Production/Single Stack/Revo or IDPA: SSP/ ESP/SCP/CCP/Revo.\na. Minimum caliber 9×19.\nb. Maximum of 10 per magazine (10+1 in chamber at start. 10 rounds in each subsequent magazine)\nc. No Power Factor\, but steel must fall to score.\nd. Start from holster.\n2) Open: Any pistol in USPSA Open Division\na. Minimum caliber 9×19\nb. Magazines may not be longer than 171.25mm\nc. No maximum round limit\nd. No major/minor Power Factor scoring or requirement\ne. Start from holster.\n3) Pistol Caliber Carbine Irons (PCCI): Any PCC legal in USPSA PCC Division\na. No maximum round limit\nb. Start from low ready.\nc. Iron sights\n4) Pistol Caliber Carbine Optics (PCCO): Any PCC legal in USPSA PCC Division\na. No maximum round limit\nb. Start from low ready.\nc. Optics\n5) Amateur: For those who are novice and may not have all the correct gear.\na. No maximum round count\nb. Start from holster\, if no holster\, then low ready.\n6) Carry Optics: Any firearm legal for USPSA\na. Minimum caliber 9×19\nb. Maximum magazines length 141.25 mm\nc. No Power Factor\, but steel must fall to score\nd. Optical/electrical sights REQUIRED\ne. No OFM or aftermarket external magwells\nf. Start from holster\nEQUIPMENT:\na. Any holster that is USPSA or IDPA legal\, that secures the firearm\, and fully covers the trigger and trigger guard. Magazine pouches. (Not required for Amateur division.)\nb. 200-300 rounds of ammunition\, minimum. All ammo will be checked with a magnet\, no steel-core or bi-metal projectiles are allowed.\nSCORING:\nRAW SCORE: is the number of targets down on a stage after the competitor has fired the last shot in the par time.\nSTAGE SCORE: is the Raw Score minus any applicable penalties.\nMATCH SCORE: is the combined total of all STAGE SCORES. The competitor with the highest Match Score is the winner. In the event of a tie\, one stage will be designated as the tie-breaker stage. The shooter with the best score on that stage will be the match winner.\nPlease watch our safety video and fill out the waiver prior to match day at www.foothillspublicshooting.cc/waiver if you do not have a Foothills Range card yet.\nPlease arrive before 9:30am to allow for check-in time.\nSee you there!\nGeneral match\, with the following divisions:\nOpen\, PCC\, Limited\, Amateur
URL:https://foothillspublicshooting.cc/event/fallin-steel-challenge-4/
LOCATION:Foothills Shooting Complex\, 283 Fielding Road\, Cherryville\, NC\, 28021\, United States
CATEGORIES:Range Event
ATTACH;FMTTYPE=image/jpeg:https://foothillspublicshooting.cc/wp-content/uploads/2023/02/FallinSteel2.jpg
ORGANIZER;CN="Foothills Public Shooting Complex of Cleveland County":MAILTO:ccgr.admin@clevelandcounty.com
END:VEVENT
BEGIN:VEVENT
DTSTART;TZID=America/New_York:20230624T100000
DTEND;TZID=America/New_York:20230624T130000
DTSTAMP:20260425T173159
CREATED:20230501T153401Z
LAST-MODIFIED:20230501T153401Z
UID:38374-1687600800-1687611600@foothillspublicshooting.cc
SUMMARY:Steel Challenge Match
DESCRIPTION:We have rimfire! This SCSA-sanctioned match is scheduled for every 4TH Saturday at Foothills.\n \nDESCRIPTION:\n*4 Stages of steel targets arranged randomly at distances from 15-25 yards\n*5 Timed strings with the slowest string thrown out\n*$20 first Firearm/ Division and $5 for additional Firearm/ Division\n*Need 100 rounds of ammo min. (200-300+ rounds and extra mags recommended)\nDivisions will be:\nHandguns\nOpen (OPN)\nLimited (LTD)\nProduction (PROD)\nSingle Stack (SS)\nIron Sight Revolver (ISR)\nOpen Revolver (OSR)\nCarry Optics (CO)\nRimfire Pistol Irons (RFPI)\nRimfire Pistol Open (RFPO)\nLong guns\nRimfire Rifle Irons (RFRI)\nRimfire Rifle Open (RFRO)\nPistol Caliber Carbine Irons (PCCI)\nPistol Caliber Carbine Open (PCCO)\n \nCheck out Appendix H in the SCSA Rules to verify your division.\nhttps://uspsa.org/viewer/2019_SCSA_Rulebook.pdf\n \nALL VISITORS MUST HAVE A RANGE CARD OR HAVE watched the safety video and fill out a waiver prior to match day at www.foothillspublicshooting.cc/waiver\nTHIS INCLUDES SPECTATORS!\n \nPlease arrive no later than 9:30am to allow for check-in time!!
URL:https://foothillspublicshooting.cc/event/steel-challenge-match-6/
LOCATION:Foothills Shooting Complex\, 283 Fielding Road\, Cherryville\, NC\, 28021\, United States
CATEGORIES:Range Event
ATTACH;FMTTYPE=image/jpeg:https://foothillspublicshooting.cc/wp-content/uploads/2023/02/SteelChallenge.jpg
ORGANIZER;CN="Foothills Public Shooting Complex of Cleveland County":MAILTO:ccgr.admin@clevelandcounty.com
END:VEVENT
END:VCALENDAR