BEGIN:VCALENDAR
VERSION:2.0
PRODID:-//Foothills Public Shooting Complex - ECPv6.15.20//NONSGML v1.0//EN
CALSCALE:GREGORIAN
METHOD:PUBLISH
X-ORIGINAL-URL:https://foothillspublicshooting.cc
X-WR-CALDESC:Events for Foothills Public Shooting Complex
REFRESH-INTERVAL;VALUE=DURATION:PT1H
X-Robots-Tag:noindex
X-PUBLISHED-TTL:PT1H
BEGIN:VTIMEZONE
TZID:America/New_York
BEGIN:DAYLIGHT
TZOFFSETFROM:-0500
TZOFFSETTO:-0400
TZNAME:EDT
DTSTART:20190310T070000
END:DAYLIGHT
BEGIN:STANDARD
TZOFFSETFROM:-0400
TZOFFSETTO:-0500
TZNAME:EST
DTSTART:20191103T060000
END:STANDARD
BEGIN:DAYLIGHT
TZOFFSETFROM:-0500
TZOFFSETTO:-0400
TZNAME:EDT
DTSTART:20200308T070000
END:DAYLIGHT
BEGIN:STANDARD
TZOFFSETFROM:-0400
TZOFFSETTO:-0500
TZNAME:EST
DTSTART:20201101T060000
END:STANDARD
BEGIN:DAYLIGHT
TZOFFSETFROM:-0500
TZOFFSETTO:-0400
TZNAME:EDT
DTSTART:20210314T070000
END:DAYLIGHT
BEGIN:STANDARD
TZOFFSETFROM:-0400
TZOFFSETTO:-0500
TZNAME:EST
DTSTART:20211107T060000
END:STANDARD
END:VTIMEZONE
BEGIN:VEVENT
DTSTART;TZID=America/New_York:20201206T100000
DTEND;TZID=America/New_York:20201206T130000
DTSTAMP:20260424T121602
CREATED:20201111T141355Z
LAST-MODIFIED:20201111T201448Z
UID:9612-1607248800-1607259600@foothillspublicshooting.cc
SUMMARY:First Shots Pistol Class NSSF
DESCRIPTION:NSSF FIRST SHOTS PISTOL CLASS\nPlease call 704-447-8230 to register and pay by phone to reserve a spot in this class! Minimum 8 students to hold class. Bring a friend!\nThis class is designed to introduce new and beginning pistol shooters to proper safety rules and firearm techniques. This class will teach you time tested fundamentals proven by champion hand gunners. Learn to shoot in a judgment-free\, stress-free environment with emphasis placed on safety and handgun fundamentals. It is better to learn the proper way initially than to overcome years of bad habits.\nCLASS TOPICS: Safety\, Gun Selection\, Grip\, Stance\, Sight Picture\, Trigger Control\, Follow Through\, Breath Control\, and Drills. Class will be limited to 20 students. Cost is $40.00.\nYOU SHOULD BRING: Your handgun and one box (50 rounds) of ammunition. We will provide eye and ear protection\, but please feel free to bring your own if you prefer to use your own equipment.\nWHEN IS THE CLASS? Sunday\, December 6\, 10:00 am-1:00 pm—2 classroom hours and 1 range hour.\nARE THERE ANY AGE RESTRICTIONS? You must be at least 18 years old to take this class by yourself. Patrons 11-17 years of age may take the class with adult supervision.\nWHO WILL BENEFIT FROM THIS CLASS? Whether just beginning\, or you’ve shot a few hundred rounds\, you will benefit from this fundamentals class. Sometimes we have the tendency to get complacent in our routines. Complacency often leads to bad habits without us even realizing it. This class will give you the opportunity to have an experienced shooter give you some valuable feedback as you begin this fun\, life-long sport.\nMUST I HAVE A NORTH CAROLINA CONCEALED CARRY PERMIT BEFORE TAKING THIS CLASS? No. However\, this class may be helpful before taking a concealed carry class.\nWHAT SHOULD I WEAR? Due to a burn risk from ejected brass\, do not wear open toed shoes\, loose fitting clothing\, or low-cut tops or tank tops. You may want to wear a hat and sunscreen for range time.\nWHERE WILL THE CLASS BE HELD? Foothills Training Center-1642 Pinedale Rd. Cherryville\, NC 28021. Foothills Range-283 Fielding Road\, Cherryville\, NC 28021. Both are located off HWY 150 halfway between Shelby and Cherryville\, NC.\nAt least one day prior to coming to the class\, first time patrons must watch our safety video and submit a waiver. This can be done easily on our website at www.foothillspublicshooting.cc/waiver
URL:https://foothillspublicshooting.cc/event/first-shots-pistol-class-nssf/
LOCATION:Foothills Training Center\, 1642 Pinedale Rd\, Cherryville\, NC\, 28021\, United States
CATEGORIES:Class
ORGANIZER;CN="Foothills Public Shooting Complex of Cleveland County":MAILTO:ccgr.admin@clevelandcounty.com
END:VEVENT
BEGIN:VEVENT
DTSTART;TZID=America/New_York:20201121T080000
DTEND;TZID=America/New_York:20201121T170000
DTSTAMP:20260424T121602
CREATED:20201111T133250Z
LAST-MODIFIED:20201111T133250Z
UID:9596-1605945600-1605978000@foothillspublicshooting.cc
SUMMARY:NC Concealed Carry Class
DESCRIPTION:Cost is $85 with lunch included. (Safe food handling procedures will be followed.) Payment is required to reserve your place.\nPlease view the Foothills safety video and submit an electronic waiver by the day before class if you have not done so already. www.foothillspublicshooting.cc/waiver\nPlease arrive at Foothills Training Center–1642 Pinedale Rd. Cherryville\, NC 28021 no later than 9am.\nBring your firearm\, eye and ear protection and 50 rounds of ammo. This North Carolina Concealed Carry class will satisfy the requirement for your NC Concealed Carry permit application.\nClass size is limited. Call 704-447-8230 to register and pay by phone.\nInstructor–Jeff Piner\, Foothills RSO\, NC CCH Instructor\, NRA RSO\, Pistol & Rifle Instructor\, AHA Instructor. 20 year US Army veteran serving in the Military Police Corp\, Special Forces & Medical Corp.
URL:https://foothillspublicshooting.cc/event/nc-concealed-carry-class-4/
LOCATION:Foothills Training Center\, 1642 Pinedale Rd\, Cherryville\, NC\, 28021\, United States
CATEGORIES:Class
ORGANIZER;CN="Foothills Public Shooting Complex of Cleveland County":MAILTO:ccgr.admin@clevelandcounty.com
END:VEVENT
BEGIN:VEVENT
DTSTART;TZID=America/New_York:20201114T080000
DTEND;TZID=America/New_York:20201114T170000
DTSTAMP:20260424T121602
CREATED:20201111T133149Z
LAST-MODIFIED:20201111T133149Z
UID:9594-1605340800-1605373200@foothillspublicshooting.cc
SUMMARY:NC Concealed Carry Class
DESCRIPTION:Cost is $85 with lunch included. (Safe food handling procedures will be followed.) Payment is required to reserve your place.\nPlease view the Foothills safety video and submit an electronic waiver by the day before class if you have not done so already. www.foothillspublicshooting.cc/waiver\nPlease arrive at Foothills Training Center–1642 Pinedale Rd. Cherryville\, NC 28021 no later than 9am.\nBring your firearm\, eye and ear protection and 50 rounds of ammo. This North Carolina Concealed Carry class will satisfy the requirement for your NC Concealed Carry permit application.\nClass size is limited. Call 704-447-8230 to register and pay by phone.\nInstructor–Jeff Piner\, Foothills RSO\, NC CCH Instructor\, NRA RSO\, Pistol & Rifle Instructor\, AHA Instructor. 20 year US Army veteran serving in the Military Police Corp\, Special Forces & Medical Corp.
URL:https://foothillspublicshooting.cc/event/nc-concealed-carry-class-3/
LOCATION:Foothills Training Center\, 1642 Pinedale Rd\, Cherryville\, NC\, 28021\, United States
CATEGORIES:Class
ORGANIZER;CN="Foothills Public Shooting Complex of Cleveland County":MAILTO:ccgr.admin@clevelandcounty.com
END:VEVENT
BEGIN:VEVENT
DTSTART;TZID=America/New_York:20201031T090000
DTEND;TZID=America/New_York:20201031T180000
DTSTAMP:20260424T121602
CREATED:20200918T160605Z
LAST-MODIFIED:20200918T162821Z
UID:7213-1604134800-1604167200@foothillspublicshooting.cc
SUMMARY:NC Concealed Carry Class
DESCRIPTION:Cost is $85 with lunch included. (Safe food handling procedures will be followed.) Payment is required to reserve your place.\nPlease view the Foothills safety video and submit an electronic waiver by the day before class if you have not done so already. www.foothillspublicshooting.cc/waiver\nPlease arrive at Foothills Training Center–1642 Pinedale Rd. Cherryville\, NC 28021 no later than 9am.\nBring your firearm\, eye and ear protection and 50 rounds of ammo. This North Carolina Concealed Carry class will satisfy the requirement for your NC Concealed Carry permit application.\nClass size is limited. Call 704-447-8230 to register and pay by phone.\nInstructor–Jeff Piner\, Foothills RSO\, NC CCH Instructor\, NRA RSO\, Pistol & Rifle Instructor\, AHA Instructor. 20 year US Army veteran serving in the Military Police Corp\, Special Forces & Medical Corp.
URL:https://foothillspublicshooting.cc/event/nc-concealed-carry-class-2/
LOCATION:Foothills Training Center\, 1642 Pinedale Rd\, Cherryville\, NC\, 28021\, United States
CATEGORIES:Class
ORGANIZER;CN="Foothills Public Shooting Complex of Cleveland County":MAILTO:ccgr.admin@clevelandcounty.com
END:VEVENT
BEGIN:VEVENT
DTSTART;TZID=America/New_York:20201017T093000
DTEND;TZID=America/New_York:20201017T130000
DTSTAMP:20260424T121602
CREATED:20201010T135502Z
LAST-MODIFIED:20201010T135502Z
UID:8307-1602927000-1602939600@foothillspublicshooting.cc
SUMMARY:NSSF First Shots Pistol Class
DESCRIPTION:NSSF FIRST SHOTS PISTOL CLASS\nPlease call 704-447-8230 to register and pay by phone to reserve a spot in this class!\nThis class is designed to introduce new and beginning pistol shooters to proper safety rules and firearm techniques. This class will teach you time tested fundamentals proven by champion hand gunners. Learn to shoot in a judgment-free\, stress-free environment with emphasis placed on safety and handgun fundamentals. It is better to learn the proper way initially than to overcome years of bad habits.\nCLASS TOPICS: Safety\, Gun Selection\, Grip\, Stance\, Sight Picture\, Trigger Control\, Follow Through\, Breath Control\, and Drills. Class will be limited to 20 students. Cost is $40.00.\nYOU SHOULD BRING: Your handgun and one box (50 rounds) of ammunition. We will provide eye and ear protection\, but please feel free to bring your own if you prefer to use your own equipment.\nWHEN IS THE CLASS? Sunday\, August 9 or Sunday\, August 16\, 10:00 am-1:00 pm—2 classroom hours and 1 range hour.\nARE THERE ANY AGE RESTRICTIONS? You must be at least 18 years old to take this class by yourself. Patrons 11-17 years of age may take the class with adult supervision.\nWHO WILL BENEFIT FROM THIS CLASS? Whether just beginning\, or you’ve shot a few hundred rounds\, you will benefit from this fundamentals class. Sometimes we have the tendency to get complacent in our routines. Complacency often leads to bad habits without us even realizing it. This class will give you the opportunity to have an experienced shooter give you some valuable feedback as you begin this fun\, life-long sport.\nMUST I HAVE A NORTH CAROLINA CONCEALED CARRY PERMIT BEFORE TAKING THIS CLASS? No. However\, this class may be helpful before taking a concealed carry class.\nWHAT SHOULD I WEAR? Due to a burn risk from ejected brass\, do not wear open toed shoes\, loose fitting clothing\, or low-cut tops or tank tops. You may want to wear a hat and sunscreen for range time.\nWHERE WILL THE CLASS BE HELD? Foothills Training Center-1642 Pinedale Rd. Cherryville\, NC 28021. Foothills Range-283 Fielding Road\, Cherryville\, NC 28021. Both are located off HWY 150 halfway between Shelby and Cherryville\, NC.\nAt least one day prior to coming to the class\, first time patrons must watch our safety video and submit a waiver. This can be done easily on our website at www.foothillspublicshooting.cc/waiver
URL:https://foothillspublicshooting.cc/event/nssf-first-shots-pistol-class-2/
LOCATION:Foothills Shooting Complex\, 283 Fielding Road\, Cherryville\, NC\, 28021\, United States
CATEGORIES:Class
ORGANIZER;CN="Foothills Public Shooting Complex of Cleveland County":MAILTO:ccgr.admin@clevelandcounty.com
END:VEVENT
BEGIN:VEVENT
DTSTART;TZID=America/New_York:20201010T090000
DTEND;TZID=America/New_York:20201010T180000
DTSTAMP:20260424T121602
CREATED:20200918T160452Z
LAST-MODIFIED:20200918T162853Z
UID:7211-1602320400-1602352800@foothillspublicshooting.cc
SUMMARY:NC Concealed Carry Class
DESCRIPTION:Cost is $85 with lunch included. (Safe food handling procedures will be followed.) Payment is required to reserve your place.\nPlease view the Foothills safety video and submit an electronic waiver by the day before class if you have not done so already. www.foothillspublicshooting.cc/waiver\nPlease arrive at Foothills Training Center–1642 Pinedale Rd. Cherryville\, NC 28021 no later than 9am.\nBring your firearm\, eye and ear protection and 50 rounds of ammo. This North Carolina Concealed Carry class will satisfy the requirement for your NC Concealed Carry permit application.\nClass size is limited. Call 704-447-8230 to register and pay by phone.\nInstructor–Jeff Piner\, Foothills RSO\, NC CCH Instructor\, NRA RSO\, Pistol & Rifle Instructor\, AHA Instructor. 20 year US Army veteran serving in the Military Police Corp\, Special Forces & Medical Corp.
URL:https://foothillspublicshooting.cc/event/nc-concealed-carry-class/
LOCATION:Foothills Training Center\, 1642 Pinedale Rd\, Cherryville\, NC\, 28021\, United States
CATEGORIES:Class
ORGANIZER;CN="Foothills Public Shooting Complex of Cleveland County":MAILTO:ccgr.admin@clevelandcounty.com
END:VEVENT
END:VCALENDAR