BEGIN:VCALENDAR
VERSION:2.0
PRODID:-//Foothills Public Shooting Complex - ECPv6.15.20//NONSGML v1.0//EN
CALSCALE:GREGORIAN
METHOD:PUBLISH
X-ORIGINAL-URL:https://foothillspublicshooting.cc
X-WR-CALDESC:Events for Foothills Public Shooting Complex
REFRESH-INTERVAL;VALUE=DURATION:PT1H
X-Robots-Tag:noindex
X-PUBLISHED-TTL:PT1H
BEGIN:VTIMEZONE
TZID:America/New_York
BEGIN:DAYLIGHT
TZOFFSETFROM:-0500
TZOFFSETTO:-0400
TZNAME:EDT
DTSTART:20240310T070000
END:DAYLIGHT
BEGIN:STANDARD
TZOFFSETFROM:-0400
TZOFFSETTO:-0500
TZNAME:EST
DTSTART:20241103T060000
END:STANDARD
BEGIN:DAYLIGHT
TZOFFSETFROM:-0500
TZOFFSETTO:-0400
TZNAME:EDT
DTSTART:20250309T070000
END:DAYLIGHT
BEGIN:STANDARD
TZOFFSETFROM:-0400
TZOFFSETTO:-0500
TZNAME:EST
DTSTART:20251102T060000
END:STANDARD
BEGIN:DAYLIGHT
TZOFFSETFROM:-0500
TZOFFSETTO:-0400
TZNAME:EDT
DTSTART:20260308T070000
END:DAYLIGHT
BEGIN:STANDARD
TZOFFSETFROM:-0400
TZOFFSETTO:-0500
TZNAME:EST
DTSTART:20261101T060000
END:STANDARD
END:VTIMEZONE
BEGIN:VEVENT
DTSTART;TZID=America/New_York:20250906T083000
DTEND;TZID=America/New_York:20250906T093000
DTSTAMP:20260423T192614
CREATED:20241105T150956Z
LAST-MODIFIED:20241105T150956Z
UID:57754-1757147400-1757151000@foothillspublicshooting.cc
SUMMARY:First Shots Shotgun & Intro Skeet Combo
DESCRIPTION:This class is for beginning shotgun shooters. It includes classroom and range time with certified instructors. NSSF has supplied us with some goodies for this class. \n\n\nYour $40 fee includes eye and ear protection. Class size is limited to 10 participants\, so call to reserve your spot today at 704-447-8230! (Office closed Mondays) \n\n\nShooters will receive on-range instruction in the finer points of skeet shooting from a Foothills Range Safety Officer. \n\nBring your shotgun and 2 boxes of 7 1/2\, 8\, or 9 size shot\, 1300 fps max. Scoring\, etiquette\, equipment\, and camaraderie will be discussed. 
URL:https://foothillspublicshooting.cc/event/first-shots-shotgun-intro-skeet-combo-30/
LOCATION:Foothills Shooting Complex\, 283 Fielding Road\, Cherryville\, NC\, 28021\, United States
CATEGORIES:Class
ATTACH;FMTTYPE=image/jpeg:https://foothillspublicshooting.cc/wp-content/uploads/2017/01/Skeet-Shoot.jpg
ORGANIZER;CN="Foothills Public Shooting Complex of Cleveland County":MAILTO:ccgr.admin@clevelandcounty.com
END:VEVENT
BEGIN:VEVENT
DTSTART;TZID=America/New_York:20250914T100000
DTEND;TZID=America/New_York:20250914T130000
DTSTAMP:20260423T192614
CREATED:20241106T173235Z
LAST-MODIFIED:20241113T150208Z
UID:57901-1757844000-1757854800@foothillspublicshooting.cc
SUMMARY:First Shots Pistol Class NSSF
DESCRIPTION:NSSF FIRST SHOTS PISTOL CLASS \nPlease call 704-447-8230 to register and pay by phone to reserve a spot in this class! Minimum 8 students to hold class. Bring a friend! \nThis class is designed to introduce new and beginning pistol shooters to proper safety rules and firearm techniques. This class will teach you time tested fundamentals proven by champion hand gunners. Learn to shoot in a judgment-free\, stress-free environment with emphasis placed on safety and handgun fundamentals. It is better to learn the proper way initially than to overcome years of bad habits. \nCLASS TOPICS: Safety\, Gun Selection\, Grip\, Stance\, Sight Picture\, Trigger Control\, Follow Through\, Breath Control\, and Drills. Class will be limited to 20 students. Cost is $40.00. \nYOU SHOULD BRING: Your handgun and one box (50 rounds) of ammunition. We will provide eye and ear protection\, but please feel free to bring your own if you prefer to use your own equipment. \nARE THERE ANY AGE RESTRICTIONS? You must be at least 18 years old to take this class by yourself. Patrons 11-17 years of age may take the class with adult supervision. \nWHO WILL BENEFIT FROM THIS CLASS? Whether just beginning\, or you’ve shot a few hundred rounds\, you will benefit from this fundamentals class. Sometimes we have the tendency to get complacent in our routines. Complacency often leads to bad habits without us even realizing it. This class will give you the opportunity to have an experienced shooter give you some valuable feedback as you begin this fun\, life-long sport. \nMUST I HAVE A NORTH CAROLINA CONCEALED CARRY PERMIT BEFORE TAKING THIS CLASS? No. However\, this class may be helpful before taking a concealed carry class. \nWHAT SHOULD I WEAR? Due to a burn risk from ejected brass\, do not wear open toed shoes\, loose fitting clothing\, or low-cut tops or tank tops. You may want to wear a hat and sunscreen for range time. \nWHERE WILL THE CLASS BE HELD? Foothills Training Center-1642 Pinedale Rd. Cherryville\, NC 28021. Foothills Range-283 Fielding Road\, Cherryville\, NC 28021. Both are located off HWY 150 halfway between Shelby and Cherryville\, NC. \nAt least one day prior to coming to the class\, first time patrons must watch our safety video and submit a waiver. This can be done easily on our website at www.foothillspublicshooting.cc/waiver
URL:https://foothillspublicshooting.cc/event/first-shots-pistol-class-nssf-12/
LOCATION:Foothills Training Center\, 1642 Pinedale Rd\, Cherryville\, NC\, 28021\, United States
CATEGORIES:Class
ORGANIZER;CN="Foothills Public Shooting Complex of Cleveland County":MAILTO:ccgr.admin@clevelandcounty.com
END:VEVENT
BEGIN:VEVENT
DTSTART;TZID=America/New_York:20250920T080000
DTEND;TZID=America/New_York:20250920T170000
DTSTAMP:20260423T192614
CREATED:20241105T153557Z
LAST-MODIFIED:20241105T153557Z
UID:57802-1758355200-1758387600@foothillspublicshooting.cc
SUMMARY:NC Concealed Carry Class
DESCRIPTION:The cost is $85 with lunch included. Advance registration and payment are required to reserve your place. Class size is limited. Call 704-447-8230 to register and pay by phone. \n\n\nPlease click here to view the Foothills safety video and submit an electronic waiver by the day before class if you have not done so already: https://foothillspublicshooting.cc/waiver/ \n\n\nPlease arrive at Foothills Training Center – 1642 Pinedale Rd. Cherryville\, NC 28021 no later than 8:00am. \n\n\nBring your firearm\, eye and ear protection\, and 50 rounds of ammo. This North Carolina Concealed Carry class will satisfy the requirement for your NC Concealed Carry permit application. \n\nInstructor–Bob Watson\, Foothills CRSO\, NC CCH Instructor\, NRA RSO\, Pistol & Rifle Instructor.
URL:https://foothillspublicshooting.cc/event/nc-concealed-carry-class-42/
LOCATION:Foothills Training Center\, 1642 Pinedale Rd\, Cherryville\, NC\, 28021\, United States
CATEGORIES:Class
ATTACH;FMTTYPE=image/jpeg:https://foothillspublicshooting.cc/wp-content/uploads/2023/02/FirstShotHandgun3.jpg
ORGANIZER;CN="Foothills Public Shooting Complex of Cleveland County":MAILTO:ccgr.admin@clevelandcounty.com
END:VEVENT
BEGIN:VEVENT
DTSTART;TZID=America/New_York:20250921T100000
DTEND;TZID=America/New_York:20250921T133000
DTSTAMP:20260423T192614
CREATED:20241204T160445Z
LAST-MODIFIED:20241204T160445Z
UID:59327-1758448800-1758461400@foothillspublicshooting.cc
SUMMARY:First Shots Rifle
DESCRIPTION:This class is designed to introduce new and beginning rifle shooters to proper safety rules and firearm techniques. This class will teach you time tested fundamentals proven by champion shooters. Learn and practice basic skills in a judgment-free\, stress-free environment with emphasis placed on safety and firearm fundamentals.  \nClass topics include Safety\, Gun Selection\, Grip\, Stance\, Sight Picture\, Trigger Control\, Follow Through\, Breath Control\, and Drills.  Class will be limited to 20 students. Cost is $40.00.  \nYou should bring your rifle and 30-50 rounds of ammunition. We will provide eye and ear protection\, but please feel free to bring your own if you prefer to use your own equipment.  \nYou must be at least 18 years old to take this class by yourself. Patrons 11-17 years of age may take the class with adult supervision.
URL:https://foothillspublicshooting.cc/event/first-shots-rifle-9/
LOCATION:Foothills Shooting Complex\, 283 Fielding Road\, Cherryville\, NC\, 28021\, United States
CATEGORIES:Class
ATTACH;FMTTYPE=image/jpeg:https://foothillspublicshooting.cc/wp-content/uploads/2024/12/logo.jpg
ORGANIZER;CN="Foothills Public Shooting Complex of Cleveland County":MAILTO:ccgr.admin@clevelandcounty.com
END:VEVENT
END:VCALENDAR