BEGIN:VCALENDAR
VERSION:2.0
PRODID:-//Foothills Public Shooting Complex - ECPv6.15.20//NONSGML v1.0//EN
CALSCALE:GREGORIAN
METHOD:PUBLISH
X-WR-CALNAME:Foothills Public Shooting Complex
X-ORIGINAL-URL:https://foothillspublicshooting.cc
X-WR-CALDESC:Events for Foothills Public Shooting Complex
REFRESH-INTERVAL;VALUE=DURATION:PT1H
X-Robots-Tag:noindex
X-PUBLISHED-TTL:PT1H
BEGIN:VTIMEZONE
TZID:America/New_York
BEGIN:DAYLIGHT
TZOFFSETFROM:-0500
TZOFFSETTO:-0400
TZNAME:EDT
DTSTART:20220313T070000
END:DAYLIGHT
BEGIN:STANDARD
TZOFFSETFROM:-0400
TZOFFSETTO:-0500
TZNAME:EST
DTSTART:20221106T060000
END:STANDARD
BEGIN:DAYLIGHT
TZOFFSETFROM:-0500
TZOFFSETTO:-0400
TZNAME:EDT
DTSTART:20230312T070000
END:DAYLIGHT
BEGIN:STANDARD
TZOFFSETFROM:-0400
TZOFFSETTO:-0500
TZNAME:EST
DTSTART:20231105T060000
END:STANDARD
BEGIN:DAYLIGHT
TZOFFSETFROM:-0500
TZOFFSETTO:-0400
TZNAME:EDT
DTSTART:20240310T070000
END:DAYLIGHT
BEGIN:STANDARD
TZOFFSETFROM:-0400
TZOFFSETTO:-0500
TZNAME:EST
DTSTART:20241103T060000
END:STANDARD
END:VTIMEZONE
BEGIN:VEVENT
DTSTART;TZID=America/New_York:20230505T090000
DTEND;TZID=America/New_York:20230505T170000
DTSTAMP:20260425T203648
CREATED:20230203T161508Z
LAST-MODIFIED:20230227T154130Z
UID:34814-1683277200-1683306000@foothillspublicshooting.cc
SUMMARY:Trapshooting Clinic with Nora Martin Ross
DESCRIPTION:  \nNora Martin Ross is a 34-time Amateur Trapshooting Association (ATA) All-American. One of her most amazing accomplishments came in 1990 when she became the first woman to break 100 straight doubles at the Grand American Trap Shoot\, where she scored a 120×120 in a shoot-off to capture the ATA Championship. Nora became the youngest person ever inducted into the Amateur Trapshooting Association Hall of Fame in 1999. \nNora’s students have said time and time again that they walked away from her clinic equipped with knowledge that would help them continue to improve their shooting. Her warm and friendly personality allows for a comfortable and non-intimidating atmosphere for students of all ages.\n– From Nora’s Website \nThe cost to participate is $375/per person\, limited to 10 students. \nBring your own lunch and 6 boxes of ammo (150-200 rounds). \nReport to the range by 8 AM. Call to reserve your spot today!\n(704) 447-8230
URL:https://foothillspublicshooting.cc/event/trapshooting-clinic-with-nora-martin-ross/
LOCATION:Foothills Shooting Complex\, 283 Fielding Road\, Cherryville\, NC\, 28021\, United States
CATEGORIES:Class
ATTACH;FMTTYPE=image/jpeg:https://foothillspublicshooting.cc/wp-content/uploads/2023/02/Nora-Ross.FB_-scaled.jpg
ORGANIZER;CN="Foothills Public Shooting Complex of Cleveland County":MAILTO:ccgr.admin@clevelandcounty.com
END:VEVENT
BEGIN:VEVENT
DTSTART;TZID=America/New_York:20230520T080000
DTEND;TZID=America/New_York:20230520T170000
DTSTAMP:20260425T203648
CREATED:20230501T153532Z
LAST-MODIFIED:20230501T153853Z
UID:38377-1684569600-1684602000@foothillspublicshooting.cc
SUMMARY:NC Concealed Carry Class
DESCRIPTION:The cost is $85 with lunch included. Advance registration and payment are required to reserve your place. Class size is limited. Call 704-447-8230 to register and pay by phone. \n\n\nPlease click here to view the Foothills safety video and submit an electronic waiver by the day before class if you have not done so already: https://foothillspublicshooting.cc/waiver/ \n\n\nPlease arrive at Foothills Training Center – 1642 Pinedale Rd. Cherryville\, NC 28021 no later than 8:00am. \n\n\nBring your firearm\, eye and ear protection\, and 50 rounds of ammo. This North Carolina Concealed Carry class will satisfy the requirement for your NC Concealed Carry permit application. \n\nInstructor–Bob Watson\, Foothills CRSO\, NC CCH Instructor\, NRA RSO\, Pistol & Rifle Instructor.
URL:https://foothillspublicshooting.cc/event/nc-concealed-carry-class-13/
LOCATION:Foothills Training Center\, 1642 Pinedale Rd\, Cherryville\, NC\, 28021\, United States
CATEGORIES:Class
ATTACH;FMTTYPE=image/jpeg:https://foothillspublicshooting.cc/wp-content/uploads/2023/02/FirstShotHandgun3.jpg
ORGANIZER;CN="Foothills Public Shooting Complex of Cleveland County":MAILTO:ccgr.admin@clevelandcounty.com
END:VEVENT
END:VCALENDAR